BEGIN:VCALENDAR
VERSION:2.0
PRODID:-//wogcf - ECPv6.15.19//NONSGML v1.0//EN
CALSCALE:GREGORIAN
METHOD:PUBLISH
X-WR-CALNAME:wogcf
X-ORIGINAL-URL:https://www.wogcf.org
X-WR-CALDESC:Events for wogcf
REFRESH-INTERVAL;VALUE=DURATION:PT1H
X-Robots-Tag:noindex
X-PUBLISHED-TTL:PT1H
BEGIN:VTIMEZONE
TZID:America/Chicago
BEGIN:DAYLIGHT
TZOFFSETFROM:-0600
TZOFFSETTO:-0500
TZNAME:CDT
DTSTART:20250309T080000
END:DAYLIGHT
BEGIN:STANDARD
TZOFFSETFROM:-0500
TZOFFSETTO:-0600
TZNAME:CST
DTSTART:20251102T070000
END:STANDARD
BEGIN:DAYLIGHT
TZOFFSETFROM:-0600
TZOFFSETTO:-0500
TZNAME:CDT
DTSTART:20260308T080000
END:DAYLIGHT
BEGIN:STANDARD
TZOFFSETFROM:-0500
TZOFFSETTO:-0600
TZNAME:CST
DTSTART:20261101T070000
END:STANDARD
BEGIN:DAYLIGHT
TZOFFSETFROM:-0600
TZOFFSETTO:-0500
TZNAME:CDT
DTSTART:20270314T080000
END:DAYLIGHT
BEGIN:STANDARD
TZOFFSETFROM:-0500
TZOFFSETTO:-0600
TZNAME:CST
DTSTART:20271107T070000
END:STANDARD
END:VTIMEZONE
BEGIN:VTIMEZONE
TZID:America/Los_Angeles
BEGIN:DAYLIGHT
TZOFFSETFROM:-0800
TZOFFSETTO:-0700
TZNAME:PDT
DTSTART:20240310T100000
END:DAYLIGHT
BEGIN:STANDARD
TZOFFSETFROM:-0700
TZOFFSETTO:-0800
TZNAME:PST
DTSTART:20241103T090000
END:STANDARD
BEGIN:DAYLIGHT
TZOFFSETFROM:-0800
TZOFFSETTO:-0700
TZNAME:PDT
DTSTART:20250309T100000
END:DAYLIGHT
BEGIN:STANDARD
TZOFFSETFROM:-0700
TZOFFSETTO:-0800
TZNAME:PST
DTSTART:20251102T090000
END:STANDARD
BEGIN:DAYLIGHT
TZOFFSETFROM:-0800
TZOFFSETTO:-0700
TZNAME:PDT
DTSTART:20260308T100000
END:DAYLIGHT
BEGIN:STANDARD
TZOFFSETFROM:-0700
TZOFFSETTO:-0800
TZNAME:PST
DTSTART:20261101T090000
END:STANDARD
END:VTIMEZONE
BEGIN:VEVENT
DTSTART;TZID=America/Chicago:20260314T140000
DTEND;TZID=America/Chicago:20260314T170000
DTSTAMP:20260423T162400
CREATED:20260306T013642Z
LAST-MODIFIED:20260306T013752Z
UID:30000608-1773496800-1773507600@www.wogcf.org
SUMMARY:P150 Spring Break Movie Date
DESCRIPTION:
URL:https://www.wogcf.org/event/p150-spring-break-movie-date/
LOCATION:Cinemark Cypress and XD\, 25720 Northwest Freeway\, Cypress\, 77429\, United States
CATEGORIES:Children
ATTACH;FMTTYPE=image/webp:https://www.wogcf.org/wp-content/uploads/2026/03/p150-movie-date.webp
END:VEVENT
BEGIN:VEVENT
DTSTART;VALUE=DATE:20250315
DTEND;VALUE=DATE:20250316
DTSTAMP:20260423T162400
CREATED:20250106T152923Z
LAST-MODIFIED:20250308T213544Z
UID:30000006-1741996800-1742083199@www.wogcf.org
SUMMARY:Spring Break Trip
DESCRIPTION:
URL:https://www.wogcf.org/event/event-6/
CATEGORIES:Children
END:VEVENT
BEGIN:VEVENT
DTSTART;TZID=America/Los_Angeles:20250309T080000
DTEND;TZID=America/Los_Angeles:20250312T160000
DTSTAMP:20260423T162400
CREATED:20250106T150609Z
LAST-MODIFIED:20250308T213815Z
UID:30000002-1741507200-1741795200@www.wogcf.org
SUMMARY:College Tour
DESCRIPTION:
URL:https://www.wogcf.org/event/event-2/
CATEGORIES:Young Adults
END:VEVENT
END:VCALENDAR