BEGIN:VCALENDAR
VERSION:2.0
PRODID:-//wogcf - ECPv6.15.19//NONSGML v1.0//EN
CALSCALE:GREGORIAN
METHOD:PUBLISH
X-WR-CALNAME:wogcf
X-ORIGINAL-URL:https://www.wogcf.org
X-WR-CALDESC:Events for wogcf
REFRESH-INTERVAL;VALUE=DURATION:PT1H
X-Robots-Tag:noindex
X-PUBLISHED-TTL:PT1H
BEGIN:VTIMEZONE
TZID:America/Chicago
BEGIN:DAYLIGHT
TZOFFSETFROM:-0600
TZOFFSETTO:-0500
TZNAME:CDT
DTSTART:20260308T080000
END:DAYLIGHT
BEGIN:STANDARD
TZOFFSETFROM:-0500
TZOFFSETTO:-0600
TZNAME:CST
DTSTART:20261101T070000
END:STANDARD
BEGIN:DAYLIGHT
TZOFFSETFROM:-0600
TZOFFSETTO:-0500
TZNAME:CDT
DTSTART:20270314T080000
END:DAYLIGHT
BEGIN:STANDARD
TZOFFSETFROM:-0500
TZOFFSETTO:-0600
TZNAME:CST
DTSTART:20271107T070000
END:STANDARD
BEGIN:DAYLIGHT
TZOFFSETFROM:-0600
TZOFFSETTO:-0500
TZNAME:CDT
DTSTART:20280312T080000
END:DAYLIGHT
BEGIN:STANDARD
TZOFFSETFROM:-0500
TZOFFSETTO:-0600
TZNAME:CST
DTSTART:20281105T070000
END:STANDARD
END:VTIMEZONE
BEGIN:VEVENT
DTSTART;TZID=America/Chicago:20270203T063000
DTEND;TZID=America/Chicago:20270203T210000
DTSTAMP:20260423T160415
CREATED:20260306T020046Z
LAST-MODIFIED:20260306T020630Z
UID:30000657-1801636200-1801688400@www.wogcf.org
SUMMARY:Wednesday Night Bible Study
DESCRIPTION:Bring your notes\, nuggets and questions and join us for Bible Study every Wednesday! \nBe prepared to interact and share as well as learn as we go deeper into the Word of God! \nVisit our Facebook page or YouTube channel to join us online.
URL:https://www.wogcf.org/event/wednesday-night-bible-study-2/2027-02-03/
LOCATION:WOGCF\, 17902 Telge Rd.\, Cypress\, TX\, 77429\, United States
CATEGORIES:Entire Congregation
ATTACH;FMTTYPE=image/webp:https://www.wogcf.org/wp-content/uploads/2026/03/Bible-Study.webp
END:VEVENT
BEGIN:VEVENT
DTSTART;TZID=America/Chicago:20270210T063000
DTEND;TZID=America/Chicago:20270210T210000
DTSTAMP:20260423T160415
CREATED:20260306T020046Z
LAST-MODIFIED:20260306T020630Z
UID:30000658-1802241000-1802293200@www.wogcf.org
SUMMARY:Wednesday Night Bible Study
DESCRIPTION:Bring your notes\, nuggets and questions and join us for Bible Study every Wednesday! \nBe prepared to interact and share as well as learn as we go deeper into the Word of God! \nVisit our Facebook page or YouTube channel to join us online.
URL:https://www.wogcf.org/event/wednesday-night-bible-study-2/2027-02-10/
LOCATION:WOGCF\, 17902 Telge Rd.\, Cypress\, TX\, 77429\, United States
CATEGORIES:Entire Congregation
ATTACH;FMTTYPE=image/webp:https://www.wogcf.org/wp-content/uploads/2026/03/Bible-Study.webp
END:VEVENT
BEGIN:VEVENT
DTSTART;TZID=America/Chicago:20270217T063000
DTEND;TZID=America/Chicago:20270217T210000
DTSTAMP:20260423T160415
CREATED:20260306T020046Z
LAST-MODIFIED:20260306T020630Z
UID:30000659-1802845800-1802898000@www.wogcf.org
SUMMARY:Wednesday Night Bible Study
DESCRIPTION:Bring your notes\, nuggets and questions and join us for Bible Study every Wednesday! \nBe prepared to interact and share as well as learn as we go deeper into the Word of God! \nVisit our Facebook page or YouTube channel to join us online.
URL:https://www.wogcf.org/event/wednesday-night-bible-study-2/2027-02-17/
LOCATION:WOGCF\, 17902 Telge Rd.\, Cypress\, TX\, 77429\, United States
CATEGORIES:Entire Congregation
ATTACH;FMTTYPE=image/webp:https://www.wogcf.org/wp-content/uploads/2026/03/Bible-Study.webp
END:VEVENT
BEGIN:VEVENT
DTSTART;TZID=America/Chicago:20270224T063000
DTEND;TZID=America/Chicago:20270224T210000
DTSTAMP:20260423T160415
CREATED:20260306T020046Z
LAST-MODIFIED:20260306T020630Z
UID:30000660-1803450600-1803502800@www.wogcf.org
SUMMARY:Wednesday Night Bible Study
DESCRIPTION:Bring your notes\, nuggets and questions and join us for Bible Study every Wednesday! \nBe prepared to interact and share as well as learn as we go deeper into the Word of God! \nVisit our Facebook page or YouTube channel to join us online.
URL:https://www.wogcf.org/event/wednesday-night-bible-study-2/2027-02-24/
LOCATION:WOGCF\, 17902 Telge Rd.\, Cypress\, TX\, 77429\, United States
CATEGORIES:Entire Congregation
ATTACH;FMTTYPE=image/webp:https://www.wogcf.org/wp-content/uploads/2026/03/Bible-Study.webp
END:VEVENT
BEGIN:VEVENT
DTSTART;TZID=America/Chicago:20270303T063000
DTEND;TZID=America/Chicago:20270303T210000
DTSTAMP:20260423T160415
CREATED:20260306T020046Z
LAST-MODIFIED:20260306T020630Z
UID:30000661-1804055400-1804107600@www.wogcf.org
SUMMARY:Wednesday Night Bible Study
DESCRIPTION:Bring your notes\, nuggets and questions and join us for Bible Study every Wednesday! \nBe prepared to interact and share as well as learn as we go deeper into the Word of God! \nVisit our Facebook page or YouTube channel to join us online.
URL:https://www.wogcf.org/event/wednesday-night-bible-study-2/2027-03-03/
LOCATION:WOGCF\, 17902 Telge Rd.\, Cypress\, TX\, 77429\, United States
CATEGORIES:Entire Congregation
ATTACH;FMTTYPE=image/webp:https://www.wogcf.org/wp-content/uploads/2026/03/Bible-Study.webp
END:VEVENT
BEGIN:VEVENT
DTSTART;TZID=America/Chicago:20270310T063000
DTEND;TZID=America/Chicago:20270310T210000
DTSTAMP:20260423T160415
CREATED:20260306T020046Z
LAST-MODIFIED:20260306T020630Z
UID:30000662-1804660200-1804712400@www.wogcf.org
SUMMARY:Wednesday Night Bible Study
DESCRIPTION:Bring your notes\, nuggets and questions and join us for Bible Study every Wednesday! \nBe prepared to interact and share as well as learn as we go deeper into the Word of God! \nVisit our Facebook page or YouTube channel to join us online.
URL:https://www.wogcf.org/event/wednesday-night-bible-study-2/2027-03-10/
LOCATION:WOGCF\, 17902 Telge Rd.\, Cypress\, TX\, 77429\, United States
CATEGORIES:Entire Congregation
ATTACH;FMTTYPE=image/webp:https://www.wogcf.org/wp-content/uploads/2026/03/Bible-Study.webp
END:VEVENT
BEGIN:VEVENT
DTSTART;TZID=America/Chicago:20270317T063000
DTEND;TZID=America/Chicago:20270317T210000
DTSTAMP:20260423T160415
CREATED:20260306T020046Z
LAST-MODIFIED:20260306T020630Z
UID:30000663-1805265000-1805317200@www.wogcf.org
SUMMARY:Wednesday Night Bible Study
DESCRIPTION:Bring your notes\, nuggets and questions and join us for Bible Study every Wednesday! \nBe prepared to interact and share as well as learn as we go deeper into the Word of God! \nVisit our Facebook page or YouTube channel to join us online.
URL:https://www.wogcf.org/event/wednesday-night-bible-study-2/2027-03-17/
LOCATION:WOGCF\, 17902 Telge Rd.\, Cypress\, TX\, 77429\, United States
CATEGORIES:Entire Congregation
ATTACH;FMTTYPE=image/webp:https://www.wogcf.org/wp-content/uploads/2026/03/Bible-Study.webp
END:VEVENT
BEGIN:VEVENT
DTSTART;TZID=America/Chicago:20270324T063000
DTEND;TZID=America/Chicago:20270324T210000
DTSTAMP:20260423T160415
CREATED:20260306T020046Z
LAST-MODIFIED:20260306T020630Z
UID:30000664-1805869800-1805922000@www.wogcf.org
SUMMARY:Wednesday Night Bible Study
DESCRIPTION:Bring your notes\, nuggets and questions and join us for Bible Study every Wednesday! \nBe prepared to interact and share as well as learn as we go deeper into the Word of God! \nVisit our Facebook page or YouTube channel to join us online.
URL:https://www.wogcf.org/event/wednesday-night-bible-study-2/2027-03-24/
LOCATION:WOGCF\, 17902 Telge Rd.\, Cypress\, TX\, 77429\, United States
CATEGORIES:Entire Congregation
ATTACH;FMTTYPE=image/webp:https://www.wogcf.org/wp-content/uploads/2026/03/Bible-Study.webp
END:VEVENT
BEGIN:VEVENT
DTSTART;TZID=America/Chicago:20270331T063000
DTEND;TZID=America/Chicago:20270331T210000
DTSTAMP:20260423T160415
CREATED:20260306T020046Z
LAST-MODIFIED:20260306T020630Z
UID:30000665-1806474600-1806526800@www.wogcf.org
SUMMARY:Wednesday Night Bible Study
DESCRIPTION:Bring your notes\, nuggets and questions and join us for Bible Study every Wednesday! \nBe prepared to interact and share as well as learn as we go deeper into the Word of God! \nVisit our Facebook page or YouTube channel to join us online.
URL:https://www.wogcf.org/event/wednesday-night-bible-study-2/2027-03-31/
LOCATION:WOGCF\, 17902 Telge Rd.\, Cypress\, TX\, 77429\, United States
CATEGORIES:Entire Congregation
ATTACH;FMTTYPE=image/webp:https://www.wogcf.org/wp-content/uploads/2026/03/Bible-Study.webp
END:VEVENT
BEGIN:VEVENT
DTSTART;TZID=America/Chicago:20270407T063000
DTEND;TZID=America/Chicago:20270407T210000
DTSTAMP:20260423T160415
CREATED:20260306T020046Z
LAST-MODIFIED:20260306T020630Z
UID:30000666-1807079400-1807131600@www.wogcf.org
SUMMARY:Wednesday Night Bible Study
DESCRIPTION:Bring your notes\, nuggets and questions and join us for Bible Study every Wednesday! \nBe prepared to interact and share as well as learn as we go deeper into the Word of God! \nVisit our Facebook page or YouTube channel to join us online.
URL:https://www.wogcf.org/event/wednesday-night-bible-study-2/2027-04-07/
LOCATION:WOGCF\, 17902 Telge Rd.\, Cypress\, TX\, 77429\, United States
CATEGORIES:Entire Congregation
ATTACH;FMTTYPE=image/webp:https://www.wogcf.org/wp-content/uploads/2026/03/Bible-Study.webp
END:VEVENT
BEGIN:VEVENT
DTSTART;TZID=America/Chicago:20270414T063000
DTEND;TZID=America/Chicago:20270414T210000
DTSTAMP:20260423T160415
CREATED:20260306T020046Z
LAST-MODIFIED:20260306T020630Z
UID:30000667-1807684200-1807736400@www.wogcf.org
SUMMARY:Wednesday Night Bible Study
DESCRIPTION:Bring your notes\, nuggets and questions and join us for Bible Study every Wednesday! \nBe prepared to interact and share as well as learn as we go deeper into the Word of God! \nVisit our Facebook page or YouTube channel to join us online.
URL:https://www.wogcf.org/event/wednesday-night-bible-study-2/2027-04-14/
LOCATION:WOGCF\, 17902 Telge Rd.\, Cypress\, TX\, 77429\, United States
CATEGORIES:Entire Congregation
ATTACH;FMTTYPE=image/webp:https://www.wogcf.org/wp-content/uploads/2026/03/Bible-Study.webp
END:VEVENT
BEGIN:VEVENT
DTSTART;TZID=America/Chicago:20270421T063000
DTEND;TZID=America/Chicago:20270421T210000
DTSTAMP:20260423T160415
CREATED:20260306T020046Z
LAST-MODIFIED:20260306T020630Z
UID:30000668-1808289000-1808341200@www.wogcf.org
SUMMARY:Wednesday Night Bible Study
DESCRIPTION:Bring your notes\, nuggets and questions and join us for Bible Study every Wednesday! \nBe prepared to interact and share as well as learn as we go deeper into the Word of God! \nVisit our Facebook page or YouTube channel to join us online.
URL:https://www.wogcf.org/event/wednesday-night-bible-study-2/2027-04-21/
LOCATION:WOGCF\, 17902 Telge Rd.\, Cypress\, TX\, 77429\, United States
CATEGORIES:Entire Congregation
ATTACH;FMTTYPE=image/webp:https://www.wogcf.org/wp-content/uploads/2026/03/Bible-Study.webp
END:VEVENT
BEGIN:VEVENT
DTSTART;TZID=America/Chicago:20270428T063000
DTEND;TZID=America/Chicago:20270428T210000
DTSTAMP:20260423T160415
CREATED:20260306T020046Z
LAST-MODIFIED:20260306T020630Z
UID:30000669-1808893800-1808946000@www.wogcf.org
SUMMARY:Wednesday Night Bible Study
DESCRIPTION:Bring your notes\, nuggets and questions and join us for Bible Study every Wednesday! \nBe prepared to interact and share as well as learn as we go deeper into the Word of God! \nVisit our Facebook page or YouTube channel to join us online.
URL:https://www.wogcf.org/event/wednesday-night-bible-study-2/2027-04-28/
LOCATION:WOGCF\, 17902 Telge Rd.\, Cypress\, TX\, 77429\, United States
CATEGORIES:Entire Congregation
ATTACH;FMTTYPE=image/webp:https://www.wogcf.org/wp-content/uploads/2026/03/Bible-Study.webp
END:VEVENT
BEGIN:VEVENT
DTSTART;TZID=America/Chicago:20270505T063000
DTEND;TZID=America/Chicago:20270505T210000
DTSTAMP:20260423T160415
CREATED:20260306T020046Z
LAST-MODIFIED:20260306T020630Z
UID:30000670-1809498600-1809550800@www.wogcf.org
SUMMARY:Wednesday Night Bible Study
DESCRIPTION:Bring your notes\, nuggets and questions and join us for Bible Study every Wednesday! \nBe prepared to interact and share as well as learn as we go deeper into the Word of God! \nVisit our Facebook page or YouTube channel to join us online.
URL:https://www.wogcf.org/event/wednesday-night-bible-study-2/2027-05-05/
LOCATION:WOGCF\, 17902 Telge Rd.\, Cypress\, TX\, 77429\, United States
CATEGORIES:Entire Congregation
ATTACH;FMTTYPE=image/webp:https://www.wogcf.org/wp-content/uploads/2026/03/Bible-Study.webp
END:VEVENT
BEGIN:VEVENT
DTSTART;TZID=America/Chicago:20270512T063000
DTEND;TZID=America/Chicago:20270512T210000
DTSTAMP:20260423T160415
CREATED:20260306T020046Z
LAST-MODIFIED:20260306T020630Z
UID:30000671-1810103400-1810155600@www.wogcf.org
SUMMARY:Wednesday Night Bible Study
DESCRIPTION:Bring your notes\, nuggets and questions and join us for Bible Study every Wednesday! \nBe prepared to interact and share as well as learn as we go deeper into the Word of God! \nVisit our Facebook page or YouTube channel to join us online.
URL:https://www.wogcf.org/event/wednesday-night-bible-study-2/2027-05-12/
LOCATION:WOGCF\, 17902 Telge Rd.\, Cypress\, TX\, 77429\, United States
CATEGORIES:Entire Congregation
ATTACH;FMTTYPE=image/webp:https://www.wogcf.org/wp-content/uploads/2026/03/Bible-Study.webp
END:VEVENT
BEGIN:VEVENT
DTSTART;TZID=America/Chicago:20270519T063000
DTEND;TZID=America/Chicago:20270519T210000
DTSTAMP:20260423T160415
CREATED:20260306T020046Z
LAST-MODIFIED:20260306T020630Z
UID:30000672-1810708200-1810760400@www.wogcf.org
SUMMARY:Wednesday Night Bible Study
DESCRIPTION:Bring your notes\, nuggets and questions and join us for Bible Study every Wednesday! \nBe prepared to interact and share as well as learn as we go deeper into the Word of God! \nVisit our Facebook page or YouTube channel to join us online.
URL:https://www.wogcf.org/event/wednesday-night-bible-study-2/2027-05-19/
LOCATION:WOGCF\, 17902 Telge Rd.\, Cypress\, TX\, 77429\, United States
CATEGORIES:Entire Congregation
ATTACH;FMTTYPE=image/webp:https://www.wogcf.org/wp-content/uploads/2026/03/Bible-Study.webp
END:VEVENT
BEGIN:VEVENT
DTSTART;TZID=America/Chicago:20270526T063000
DTEND;TZID=America/Chicago:20270526T210000
DTSTAMP:20260423T160415
CREATED:20260306T020046Z
LAST-MODIFIED:20260306T020630Z
UID:30000673-1811313000-1811365200@www.wogcf.org
SUMMARY:Wednesday Night Bible Study
DESCRIPTION:Bring your notes\, nuggets and questions and join us for Bible Study every Wednesday! \nBe prepared to interact and share as well as learn as we go deeper into the Word of God! \nVisit our Facebook page or YouTube channel to join us online.
URL:https://www.wogcf.org/event/wednesday-night-bible-study-2/2027-05-26/
LOCATION:WOGCF\, 17902 Telge Rd.\, Cypress\, TX\, 77429\, United States
CATEGORIES:Entire Congregation
ATTACH;FMTTYPE=image/webp:https://www.wogcf.org/wp-content/uploads/2026/03/Bible-Study.webp
END:VEVENT
BEGIN:VEVENT
DTSTART;TZID=America/Chicago:20270602T063000
DTEND;TZID=America/Chicago:20270602T210000
DTSTAMP:20260423T160415
CREATED:20260306T020046Z
LAST-MODIFIED:20260306T020630Z
UID:30000674-1811917800-1811970000@www.wogcf.org
SUMMARY:Wednesday Night Bible Study
DESCRIPTION:Bring your notes\, nuggets and questions and join us for Bible Study every Wednesday! \nBe prepared to interact and share as well as learn as we go deeper into the Word of God! \nVisit our Facebook page or YouTube channel to join us online.
URL:https://www.wogcf.org/event/wednesday-night-bible-study-2/2027-06-02/
LOCATION:WOGCF\, 17902 Telge Rd.\, Cypress\, TX\, 77429\, United States
CATEGORIES:Entire Congregation
ATTACH;FMTTYPE=image/webp:https://www.wogcf.org/wp-content/uploads/2026/03/Bible-Study.webp
END:VEVENT
BEGIN:VEVENT
DTSTART;TZID=America/Chicago:20270609T063000
DTEND;TZID=America/Chicago:20270609T210000
DTSTAMP:20260423T160415
CREATED:20260306T020046Z
LAST-MODIFIED:20260306T020630Z
UID:30000675-1812522600-1812574800@www.wogcf.org
SUMMARY:Wednesday Night Bible Study
DESCRIPTION:Bring your notes\, nuggets and questions and join us for Bible Study every Wednesday! \nBe prepared to interact and share as well as learn as we go deeper into the Word of God! \nVisit our Facebook page or YouTube channel to join us online.
URL:https://www.wogcf.org/event/wednesday-night-bible-study-2/2027-06-09/
LOCATION:WOGCF\, 17902 Telge Rd.\, Cypress\, TX\, 77429\, United States
CATEGORIES:Entire Congregation
ATTACH;FMTTYPE=image/webp:https://www.wogcf.org/wp-content/uploads/2026/03/Bible-Study.webp
END:VEVENT
BEGIN:VEVENT
DTSTART;TZID=America/Chicago:20270616T063000
DTEND;TZID=America/Chicago:20270616T210000
DTSTAMP:20260423T160415
CREATED:20260306T020046Z
LAST-MODIFIED:20260306T020630Z
UID:30000676-1813127400-1813179600@www.wogcf.org
SUMMARY:Wednesday Night Bible Study
DESCRIPTION:Bring your notes\, nuggets and questions and join us for Bible Study every Wednesday! \nBe prepared to interact and share as well as learn as we go deeper into the Word of God! \nVisit our Facebook page or YouTube channel to join us online.
URL:https://www.wogcf.org/event/wednesday-night-bible-study-2/2027-06-16/
LOCATION:WOGCF\, 17902 Telge Rd.\, Cypress\, TX\, 77429\, United States
CATEGORIES:Entire Congregation
ATTACH;FMTTYPE=image/webp:https://www.wogcf.org/wp-content/uploads/2026/03/Bible-Study.webp
END:VEVENT
BEGIN:VEVENT
DTSTART;TZID=America/Chicago:20270623T063000
DTEND;TZID=America/Chicago:20270623T210000
DTSTAMP:20260423T160415
CREATED:20260306T020046Z
LAST-MODIFIED:20260306T020630Z
UID:30000677-1813732200-1813784400@www.wogcf.org
SUMMARY:Wednesday Night Bible Study
DESCRIPTION:Bring your notes\, nuggets and questions and join us for Bible Study every Wednesday! \nBe prepared to interact and share as well as learn as we go deeper into the Word of God! \nVisit our Facebook page or YouTube channel to join us online.
URL:https://www.wogcf.org/event/wednesday-night-bible-study-2/2027-06-23/
LOCATION:WOGCF\, 17902 Telge Rd.\, Cypress\, TX\, 77429\, United States
CATEGORIES:Entire Congregation
ATTACH;FMTTYPE=image/webp:https://www.wogcf.org/wp-content/uploads/2026/03/Bible-Study.webp
END:VEVENT
BEGIN:VEVENT
DTSTART;TZID=America/Chicago:20270630T063000
DTEND;TZID=America/Chicago:20270630T210000
DTSTAMP:20260423T160415
CREATED:20260306T020046Z
LAST-MODIFIED:20260306T020630Z
UID:30000678-1814337000-1814389200@www.wogcf.org
SUMMARY:Wednesday Night Bible Study
DESCRIPTION:Bring your notes\, nuggets and questions and join us for Bible Study every Wednesday! \nBe prepared to interact and share as well as learn as we go deeper into the Word of God! \nVisit our Facebook page or YouTube channel to join us online.
URL:https://www.wogcf.org/event/wednesday-night-bible-study-2/2027-06-30/
LOCATION:WOGCF\, 17902 Telge Rd.\, Cypress\, TX\, 77429\, United States
CATEGORIES:Entire Congregation
ATTACH;FMTTYPE=image/webp:https://www.wogcf.org/wp-content/uploads/2026/03/Bible-Study.webp
END:VEVENT
END:VCALENDAR