BEGIN:VCALENDAR
VERSION:2.0
PRODID:-//wogcf - ECPv6.15.19//NONSGML v1.0//EN
CALSCALE:GREGORIAN
METHOD:PUBLISH
X-ORIGINAL-URL:https://www.wogcf.org
X-WR-CALDESC:Events for wogcf
REFRESH-INTERVAL;VALUE=DURATION:PT1H
X-Robots-Tag:noindex
X-PUBLISHED-TTL:PT1H
BEGIN:VTIMEZONE
TZID:UTC
BEGIN:STANDARD
TZOFFSETFROM:+0000
TZOFFSETTO:+0000
TZNAME:UTC
DTSTART:20240101T000000
END:STANDARD
END:VTIMEZONE
BEGIN:VTIMEZONE
TZID:America/Chicago
BEGIN:DAYLIGHT
TZOFFSETFROM:-0600
TZOFFSETTO:-0500
TZNAME:CDT
DTSTART:20240310T080000
END:DAYLIGHT
BEGIN:STANDARD
TZOFFSETFROM:-0500
TZOFFSETTO:-0600
TZNAME:CST
DTSTART:20241103T070000
END:STANDARD
BEGIN:DAYLIGHT
TZOFFSETFROM:-0600
TZOFFSETTO:-0500
TZNAME:CDT
DTSTART:20250309T080000
END:DAYLIGHT
BEGIN:STANDARD
TZOFFSETFROM:-0500
TZOFFSETTO:-0600
TZNAME:CST
DTSTART:20251102T070000
END:STANDARD
BEGIN:DAYLIGHT
TZOFFSETFROM:-0600
TZOFFSETTO:-0500
TZNAME:CDT
DTSTART:20260308T080000
END:DAYLIGHT
BEGIN:STANDARD
TZOFFSETFROM:-0500
TZOFFSETTO:-0600
TZNAME:CST
DTSTART:20261101T070000
END:STANDARD
END:VTIMEZONE
BEGIN:VTIMEZONE
TZID:America/Los_Angeles
BEGIN:DAYLIGHT
TZOFFSETFROM:-0800
TZOFFSETTO:-0700
TZNAME:PDT
DTSTART:20240310T100000
END:DAYLIGHT
BEGIN:STANDARD
TZOFFSETFROM:-0700
TZOFFSETTO:-0800
TZNAME:PST
DTSTART:20241103T090000
END:STANDARD
BEGIN:DAYLIGHT
TZOFFSETFROM:-0800
TZOFFSETTO:-0700
TZNAME:PDT
DTSTART:20250309T100000
END:DAYLIGHT
BEGIN:STANDARD
TZOFFSETFROM:-0700
TZOFFSETTO:-0800
TZNAME:PST
DTSTART:20251102T090000
END:STANDARD
BEGIN:DAYLIGHT
TZOFFSETFROM:-0800
TZOFFSETTO:-0700
TZNAME:PDT
DTSTART:20260308T100000
END:DAYLIGHT
BEGIN:STANDARD
TZOFFSETFROM:-0700
TZOFFSETTO:-0800
TZNAME:PST
DTSTART:20261101T090000
END:STANDARD
END:VTIMEZONE
BEGIN:VEVENT
DTSTART;TZID=UTC:20250815T090000
DTEND;TZID=UTC:20250815T120000
DTSTAMP:20260423T192434
CREATED:20250106T145728Z
LAST-MODIFIED:20260303T163403Z
UID:30000583-1755248400-1755259200@www.wogcf.org
SUMMARY:Real Men Standing Up Breakfast
DESCRIPTION:Come spend a morning with the men of WOGCF as we prepare for 2026 and continue to grow in the word.
URL:https://www.wogcf.org/event/event-1/2025-08-15/
LOCATION:WOGCF\, 17902 Telge Rd.\, Cypress\, TX\, 77429\, United States
CATEGORIES:Men
ATTACH;FMTTYPE=image/webp:https://www.wogcf.org/wp-content/uploads/2025/01/RMSU.webp
END:VEVENT
BEGIN:VEVENT
DTSTART;TZID=America/Chicago:20250723T191500
DTEND;TZID=America/Chicago:20250723T210000
DTSTAMP:20260423T192434
CREATED:20250705T030541Z
LAST-MODIFIED:20250722T094010Z
UID:30000254-1753298100-1753304400@www.wogcf.org
SUMMARY:Mid-Week Worship Virtual Series
DESCRIPTION:Mid-Week Worship is Virtual! That means you can enjoy your worship experience from the comfort of home\, work\, or even as you’re on the go! \nGo to our YouTube or Facebook page at 7:15 p.m. to join the call. \n\nYouTube\nFacebook Page\n\nOur Summer Discipleship Series continues until July 23rd! If you’ve already signed up\, download the syllabus and materials.
URL:https://www.wogcf.org/event/mid-week-worship-virtual-series/2025-07-23/
LOCATION:Online
CATEGORIES:Adults Over 50,Married Couples,Men,Women
ATTACH;FMTTYPE=image/jpeg:https://www.wogcf.org/wp-content/uploads/2025/07/Virtual-Mid-week-Worship.jpg
END:VEVENT
BEGIN:VEVENT
DTSTART;TZID=America/Chicago:20250716T191500
DTEND;TZID=America/Chicago:20250716T210000
DTSTAMP:20260423T192434
CREATED:20250705T030541Z
LAST-MODIFIED:20250722T094010Z
UID:30000253-1752693300-1752699600@www.wogcf.org
SUMMARY:Mid-Week Worship Virtual Series
DESCRIPTION:Mid-Week Worship is Virtual! That means you can enjoy your worship experience from the comfort of home\, work\, or even as you’re on the go! \nGo to our YouTube or Facebook page at 7:15 p.m. to join the call. \n\nYouTube\nFacebook Page\n\nOur Summer Discipleship Series continues until July 23rd! If you’ve already signed up\, download the syllabus and materials.
URL:https://www.wogcf.org/event/mid-week-worship-virtual-series/2025-07-16/
LOCATION:Online
CATEGORIES:Adults Over 50,Married Couples,Men,Women
ATTACH;FMTTYPE=image/jpeg:https://www.wogcf.org/wp-content/uploads/2025/07/Virtual-Mid-week-Worship.jpg
END:VEVENT
BEGIN:VEVENT
DTSTART;TZID=UTC:20250715T090000
DTEND;TZID=UTC:20250715T120000
DTSTAMP:20260423T192434
CREATED:20250106T145728Z
LAST-MODIFIED:20260303T163403Z
UID:30000582-1752570000-1752580800@www.wogcf.org
SUMMARY:Real Men Standing Up Breakfast
DESCRIPTION:Come spend a morning with the men of WOGCF as we prepare for 2026 and continue to grow in the word.
URL:https://www.wogcf.org/event/event-1/2025-07-15/
LOCATION:WOGCF\, 17902 Telge Rd.\, Cypress\, TX\, 77429\, United States
CATEGORIES:Men
ATTACH;FMTTYPE=image/webp:https://www.wogcf.org/wp-content/uploads/2025/01/RMSU.webp
END:VEVENT
BEGIN:VEVENT
DTSTART;TZID=America/Chicago:20250709T191500
DTEND;TZID=America/Chicago:20250709T210000
DTSTAMP:20260423T192434
CREATED:20250705T030541Z
LAST-MODIFIED:20250722T094010Z
UID:30000252-1752088500-1752094800@www.wogcf.org
SUMMARY:Mid-Week Worship Virtual Series
DESCRIPTION:Mid-Week Worship is Virtual! That means you can enjoy your worship experience from the comfort of home\, work\, or even as you’re on the go! \nGo to our YouTube or Facebook page at 7:15 p.m. to join the call. \n\nYouTube\nFacebook Page\n\nOur Summer Discipleship Series continues until July 23rd! If you’ve already signed up\, download the syllabus and materials.
URL:https://www.wogcf.org/event/mid-week-worship-virtual-series/2025-07-09/
LOCATION:Online
CATEGORIES:Adults Over 50,Married Couples,Men,Women
ATTACH;FMTTYPE=image/jpeg:https://www.wogcf.org/wp-content/uploads/2025/07/Virtual-Mid-week-Worship.jpg
END:VEVENT
BEGIN:VEVENT
DTSTART;TZID=America/Chicago:20250702T191500
DTEND;TZID=America/Chicago:20250702T210000
DTSTAMP:20260423T192434
CREATED:20250705T030541Z
LAST-MODIFIED:20250722T094010Z
UID:30000251-1751483700-1751490000@www.wogcf.org
SUMMARY:Mid-Week Worship Virtual Series
DESCRIPTION:Mid-Week Worship is Virtual! That means you can enjoy your worship experience from the comfort of home\, work\, or even as you’re on the go! \nGo to our YouTube or Facebook page at 7:15 p.m. to join the call. \n\nYouTube\nFacebook Page\n\nOur Summer Discipleship Series continues until July 23rd! If you’ve already signed up\, download the syllabus and materials.
URL:https://www.wogcf.org/event/mid-week-worship-virtual-series/2025-07-02/
LOCATION:Online
CATEGORIES:Adults Over 50,Married Couples,Men,Women
ATTACH;FMTTYPE=image/jpeg:https://www.wogcf.org/wp-content/uploads/2025/07/Virtual-Mid-week-Worship.jpg
END:VEVENT
BEGIN:VEVENT
DTSTART;TZID=America/Chicago:20250625T191500
DTEND;TZID=America/Chicago:20250625T210000
DTSTAMP:20260423T192434
CREATED:20250705T030541Z
LAST-MODIFIED:20250722T094010Z
UID:30000250-1750878900-1750885200@www.wogcf.org
SUMMARY:Mid-Week Worship Virtual Series
DESCRIPTION:Mid-Week Worship is Virtual! That means you can enjoy your worship experience from the comfort of home\, work\, or even as you’re on the go! \nGo to our YouTube or Facebook page at 7:15 p.m. to join the call. \n\nYouTube\nFacebook Page\n\nOur Summer Discipleship Series continues until July 23rd! If you’ve already signed up\, download the syllabus and materials.
URL:https://www.wogcf.org/event/mid-week-worship-virtual-series/2025-06-25/
LOCATION:Online
CATEGORIES:Adults Over 50,Married Couples,Men,Women
ATTACH;FMTTYPE=image/jpeg:https://www.wogcf.org/wp-content/uploads/2025/07/Virtual-Mid-week-Worship.jpg
END:VEVENT
BEGIN:VEVENT
DTSTART;TZID=America/Chicago:20250618T191500
DTEND;TZID=America/Chicago:20250618T210000
DTSTAMP:20260423T192434
CREATED:20250705T030541Z
LAST-MODIFIED:20250722T094010Z
UID:30000249-1750274100-1750280400@www.wogcf.org
SUMMARY:Mid-Week Worship Virtual Series
DESCRIPTION:Mid-Week Worship is Virtual! That means you can enjoy your worship experience from the comfort of home\, work\, or even as you’re on the go! \nGo to our YouTube or Facebook page at 7:15 p.m. to join the call. \n\nYouTube\nFacebook Page\n\nOur Summer Discipleship Series continues until July 23rd! If you’ve already signed up\, download the syllabus and materials.
URL:https://www.wogcf.org/event/mid-week-worship-virtual-series/2025-06-18/
LOCATION:Online
CATEGORIES:Adults Over 50,Married Couples,Men,Women
ATTACH;FMTTYPE=image/jpeg:https://www.wogcf.org/wp-content/uploads/2025/07/Virtual-Mid-week-Worship.jpg
END:VEVENT
BEGIN:VEVENT
DTSTART;TZID=UTC:20250615T090000
DTEND;TZID=UTC:20250615T120000
DTSTAMP:20260423T192434
CREATED:20250106T145728Z
LAST-MODIFIED:20260303T163403Z
UID:30000581-1749978000-1749988800@www.wogcf.org
SUMMARY:Real Men Standing Up Breakfast
DESCRIPTION:Come spend a morning with the men of WOGCF as we prepare for 2026 and continue to grow in the word.
URL:https://www.wogcf.org/event/event-1/2025-06-15/
LOCATION:WOGCF\, 17902 Telge Rd.\, Cypress\, TX\, 77429\, United States
CATEGORIES:Men
ATTACH;FMTTYPE=image/webp:https://www.wogcf.org/wp-content/uploads/2025/01/RMSU.webp
END:VEVENT
BEGIN:VEVENT
DTSTART;TZID=America/Chicago:20250611T191500
DTEND;TZID=America/Chicago:20250611T210000
DTSTAMP:20260423T192434
CREATED:20250705T030541Z
LAST-MODIFIED:20250722T094010Z
UID:30000248-1749669300-1749675600@www.wogcf.org
SUMMARY:Mid-Week Worship Virtual Series
DESCRIPTION:Mid-Week Worship is Virtual! That means you can enjoy your worship experience from the comfort of home\, work\, or even as you’re on the go! \nGo to our YouTube or Facebook page at 7:15 p.m. to join the call. \n\nYouTube\nFacebook Page\n\nOur Summer Discipleship Series continues until July 23rd! If you’ve already signed up\, download the syllabus and materials.
URL:https://www.wogcf.org/event/mid-week-worship-virtual-series/2025-06-11/
LOCATION:Online
CATEGORIES:Adults Over 50,Married Couples,Men,Women
ATTACH;FMTTYPE=image/jpeg:https://www.wogcf.org/wp-content/uploads/2025/07/Virtual-Mid-week-Worship.jpg
END:VEVENT
BEGIN:VEVENT
DTSTART;TZID=America/Chicago:20250604T191500
DTEND;TZID=America/Chicago:20250604T210000
DTSTAMP:20260423T192434
CREATED:20250705T030541Z
LAST-MODIFIED:20250722T094010Z
UID:30000247-1749064500-1749070800@www.wogcf.org
SUMMARY:Mid-Week Worship Virtual Series
DESCRIPTION:Mid-Week Worship is Virtual! That means you can enjoy your worship experience from the comfort of home\, work\, or even as you’re on the go! \nGo to our YouTube or Facebook page at 7:15 p.m. to join the call. \n\nYouTube\nFacebook Page\n\nOur Summer Discipleship Series continues until July 23rd! If you’ve already signed up\, download the syllabus and materials.
URL:https://www.wogcf.org/event/mid-week-worship-virtual-series/2025-06-04/
LOCATION:Online
CATEGORIES:Adults Over 50,Married Couples,Men,Women
ATTACH;FMTTYPE=image/jpeg:https://www.wogcf.org/wp-content/uploads/2025/07/Virtual-Mid-week-Worship.jpg
END:VEVENT
BEGIN:VEVENT
DTSTART;TZID=UTC:20250515T090000
DTEND;TZID=UTC:20250515T120000
DTSTAMP:20260423T192434
CREATED:20250106T145728Z
LAST-MODIFIED:20260303T163403Z
UID:30000580-1747299600-1747310400@www.wogcf.org
SUMMARY:Real Men Standing Up Breakfast
DESCRIPTION:Come spend a morning with the men of WOGCF as we prepare for 2026 and continue to grow in the word.
URL:https://www.wogcf.org/event/event-1/2025-05-15/
LOCATION:WOGCF\, 17902 Telge Rd.\, Cypress\, TX\, 77429\, United States
CATEGORIES:Men
ATTACH;FMTTYPE=image/webp:https://www.wogcf.org/wp-content/uploads/2025/01/RMSU.webp
END:VEVENT
BEGIN:VEVENT
DTSTART;TZID=UTC:20250415T090000
DTEND;TZID=UTC:20250415T120000
DTSTAMP:20260423T192434
CREATED:20250106T145728Z
LAST-MODIFIED:20260303T163403Z
UID:30000579-1744707600-1744718400@www.wogcf.org
SUMMARY:Real Men Standing Up Breakfast
DESCRIPTION:Come spend a morning with the men of WOGCF as we prepare for 2026 and continue to grow in the word.
URL:https://www.wogcf.org/event/event-1/2025-04-15/
LOCATION:WOGCF\, 17902 Telge Rd.\, Cypress\, TX\, 77429\, United States
CATEGORIES:Men
ATTACH;FMTTYPE=image/webp:https://www.wogcf.org/wp-content/uploads/2025/01/RMSU.webp
END:VEVENT
BEGIN:VEVENT
DTSTART;TZID=America/Los_Angeles:20250321T190000
DTEND;TZID=America/Los_Angeles:20250321T210000
DTSTAMP:20260423T192434
CREATED:20250106T151317Z
LAST-MODIFIED:20250308T230146Z
UID:30000003-1742583600-1742590800@www.wogcf.org
SUMMARY:Vision Board Party
DESCRIPTION:An evening designed to help couples connect with other couples and have fun! Join F.I.R.M. presents Third Fridays at the F.I.R.M. Lounge. \nAttire is casual and we encourage you to coordinate with your date as a prize will be awarded to the best-coordinated couple! Cost is $40 per couple and dating\, engaged\, and married couples are all welcomed. \nEntertainment Includes: Live DJ\, Fun icebreakers to connect with other couples (Couples Speed Dating\, Hat Chat & More!). Finger foods and beverages will be provided. Don’t miss this chance to mingle\, laugh\, and build stronger relationships!
URL:https://www.wogcf.org/event/event-3/
LOCATION:Cypress Creek Community Center\, 10702 Cypress Creek Bend\, Cypress\, TX\, 77433
CATEGORIES:Married Couples,Men,Women
ATTACH;FMTTYPE=image/png:https://www.wogcf.org/wp-content/uploads/2025/01/vision-board.png
END:VEVENT
BEGIN:VEVENT
DTSTART;TZID=UTC:20250315T090000
DTEND;TZID=UTC:20250315T120000
DTSTAMP:20260423T192434
CREATED:20250106T145728Z
LAST-MODIFIED:20260303T163403Z
UID:30000578-1742029200-1742040000@www.wogcf.org
SUMMARY:Real Men Standing Up Breakfast
DESCRIPTION:Come spend a morning with the men of WOGCF as we prepare for 2026 and continue to grow in the word.
URL:https://www.wogcf.org/event/event-1/2025-03-15/
LOCATION:WOGCF\, 17902 Telge Rd.\, Cypress\, TX\, 77429\, United States
CATEGORIES:Men
ATTACH;FMTTYPE=image/webp:https://www.wogcf.org/wp-content/uploads/2025/01/RMSU.webp
END:VEVENT
BEGIN:VEVENT
DTSTART;TZID=America/Los_Angeles:20250129T083000
DTEND;TZID=America/Los_Angeles:20250129T150000
DTSTAMP:20260423T192434
CREATED:20250106T151836Z
LAST-MODIFIED:20250308T213453Z
UID:30000004-1738139400-1738162800@www.wogcf.org
SUMMARY:Community Outreach w/ Frontline
DESCRIPTION:
URL:https://www.wogcf.org/event/event-4/
LOCATION:WOGCF\, 17902 Telge Rd.\, Cypress\, TX\, 77429\, United States
CATEGORIES:Adults Over 50,Men,Women,Young Adults
END:VEVENT
END:VCALENDAR