BEGIN:VCALENDAR
VERSION:2.0
PRODID:-//wogcf - ECPv6.15.19//NONSGML v1.0//EN
CALSCALE:GREGORIAN
METHOD:PUBLISH
X-WR-CALNAME:wogcf
X-ORIGINAL-URL:https://www.wogcf.org
X-WR-CALDESC:Events for wogcf
REFRESH-INTERVAL;VALUE=DURATION:PT1H
X-Robots-Tag:noindex
X-PUBLISHED-TTL:PT1H
BEGIN:VTIMEZONE
TZID:America/Chicago
BEGIN:DAYLIGHT
TZOFFSETFROM:-0600
TZOFFSETTO:-0500
TZNAME:CDT
DTSTART:20240310T080000
END:DAYLIGHT
BEGIN:STANDARD
TZOFFSETFROM:-0500
TZOFFSETTO:-0600
TZNAME:CST
DTSTART:20241103T070000
END:STANDARD
BEGIN:DAYLIGHT
TZOFFSETFROM:-0600
TZOFFSETTO:-0500
TZNAME:CDT
DTSTART:20250309T080000
END:DAYLIGHT
BEGIN:STANDARD
TZOFFSETFROM:-0500
TZOFFSETTO:-0600
TZNAME:CST
DTSTART:20251102T070000
END:STANDARD
BEGIN:DAYLIGHT
TZOFFSETFROM:-0600
TZOFFSETTO:-0500
TZNAME:CDT
DTSTART:20260308T080000
END:DAYLIGHT
BEGIN:STANDARD
TZOFFSETFROM:-0500
TZOFFSETTO:-0600
TZNAME:CST
DTSTART:20261101T070000
END:STANDARD
BEGIN:DAYLIGHT
TZOFFSETFROM:-0600
TZOFFSETTO:-0500
TZNAME:CDT
DTSTART:20270314T080000
END:DAYLIGHT
BEGIN:STANDARD
TZOFFSETFROM:-0500
TZOFFSETTO:-0600
TZNAME:CST
DTSTART:20271107T070000
END:STANDARD
END:VTIMEZONE
BEGIN:VEVENT
DTSTART;TZID=America/Chicago:20260107T191500
DTEND;TZID=America/Chicago:20260107T210000
DTSTAMP:20260423T192818
CREATED:20260102T195658Z
LAST-MODIFIED:20260102T204457Z
UID:30000312-1767813300-1767819600@www.wogcf.org
SUMMARY:Vision Night
DESCRIPTION:VISION NIGHT IS COMING! \nWord Family! Prepare to THRIVE in 2026\, as God has so much in store for The Word and our members this year! \nThe VISION will be shared on next Wednesday\, January 7th at 7:15PM. Join us and hear firsthand the VISION God has placed on Pastor’s heart.
URL:https://www.wogcf.org/event/vision-night/
LOCATION:WOGCF\, 17902 Telge Rd.\, Cypress\, TX\, 77429\, United States
CATEGORIES:Everyone
ATTACH;FMTTYPE=image/webp:https://www.wogcf.org/wp-content/uploads/2026/01/2026-vision-night.webp
END:VEVENT
BEGIN:VEVENT
DTSTART;TZID=America/Chicago:20251231T220000
DTEND;TZID=America/Chicago:20251231T220000
DTSTAMP:20260423T192818
CREATED:20251222T175447Z
LAST-MODIFIED:20251222T180037Z
UID:30000311-1767218400-1767218400@www.wogcf.org
SUMMARY:Watch Night Service
DESCRIPTION:Before the countdown begins\, pause with us in God’s presence. Our Watch Night Service is a powerful moment to reset your spirit\, renew your faith\, and realign your heart for the year ahead. Through prayer\, worship\, and fellowship\, we’ll welcome the new year with intention—believing God for greater\, walking in faith\, and moving forward together.
URL:https://www.wogcf.org/event/watch-night-service/
LOCATION:WOGCF\, 17902 Telge Rd.\, Cypress\, TX\, 77429\, United States
CATEGORIES:Everyone
ATTACH;FMTTYPE=image/webp:https://www.wogcf.org/wp-content/uploads/2025/12/watch_night_2025.webp
END:VEVENT
END:VCALENDAR