BEGIN:VCALENDAR
VERSION:2.0
PRODID:-//wogcf - ECPv6.15.19//NONSGML v1.0//EN
CALSCALE:GREGORIAN
METHOD:PUBLISH
X-WR-CALNAME:wogcf
X-ORIGINAL-URL:https://www.wogcf.org
X-WR-CALDESC:Events for wogcf
REFRESH-INTERVAL;VALUE=DURATION:PT1H
X-Robots-Tag:noindex
X-PUBLISHED-TTL:PT1H
BEGIN:VTIMEZONE
TZID:America/Chicago
BEGIN:DAYLIGHT
TZOFFSETFROM:-0600
TZOFFSETTO:-0500
TZNAME:CDT
DTSTART:20250309T080000
END:DAYLIGHT
BEGIN:STANDARD
TZOFFSETFROM:-0500
TZOFFSETTO:-0600
TZNAME:CST
DTSTART:20251102T070000
END:STANDARD
BEGIN:DAYLIGHT
TZOFFSETFROM:-0600
TZOFFSETTO:-0500
TZNAME:CDT
DTSTART:20260308T080000
END:DAYLIGHT
BEGIN:STANDARD
TZOFFSETFROM:-0500
TZOFFSETTO:-0600
TZNAME:CST
DTSTART:20261101T070000
END:STANDARD
BEGIN:DAYLIGHT
TZOFFSETFROM:-0600
TZOFFSETTO:-0500
TZNAME:CDT
DTSTART:20270314T080000
END:DAYLIGHT
BEGIN:STANDARD
TZOFFSETFROM:-0500
TZOFFSETTO:-0600
TZNAME:CST
DTSTART:20271107T070000
END:STANDARD
BEGIN:DAYLIGHT
TZOFFSETFROM:-0600
TZOFFSETTO:-0500
TZNAME:CDT
DTSTART:20280312T080000
END:DAYLIGHT
BEGIN:STANDARD
TZOFFSETFROM:-0500
TZOFFSETTO:-0600
TZNAME:CST
DTSTART:20281105T070000
END:STANDARD
END:VTIMEZONE
BEGIN:VEVENT
DTSTART;TZID=America/Chicago:20260701T063000
DTEND;TZID=America/Chicago:20260701T210000
DTSTAMP:20260423T173304
CREATED:20260306T020046Z
LAST-MODIFIED:20260306T020630Z
UID:30000626-1782887400-1782939600@www.wogcf.org
SUMMARY:Wednesday Night Bible Study
DESCRIPTION:Bring your notes\, nuggets and questions and join us for Bible Study every Wednesday! \nBe prepared to interact and share as well as learn as we go deeper into the Word of God! \nVisit our Facebook page or YouTube channel to join us online.
URL:https://www.wogcf.org/event/wednesday-night-bible-study-2/2026-07-01/
LOCATION:WOGCF\, 17902 Telge Rd.\, Cypress\, TX\, 77429\, United States
CATEGORIES:Entire Congregation
ATTACH;FMTTYPE=image/webp:https://www.wogcf.org/wp-content/uploads/2026/03/Bible-Study.webp
END:VEVENT
BEGIN:VEVENT
DTSTART;TZID=America/Chicago:20260708T063000
DTEND;TZID=America/Chicago:20260708T210000
DTSTAMP:20260423T173304
CREATED:20260306T020046Z
LAST-MODIFIED:20260306T020630Z
UID:30000627-1783492200-1783544400@www.wogcf.org
SUMMARY:Wednesday Night Bible Study
DESCRIPTION:Bring your notes\, nuggets and questions and join us for Bible Study every Wednesday! \nBe prepared to interact and share as well as learn as we go deeper into the Word of God! \nVisit our Facebook page or YouTube channel to join us online.
URL:https://www.wogcf.org/event/wednesday-night-bible-study-2/2026-07-08/
LOCATION:WOGCF\, 17902 Telge Rd.\, Cypress\, TX\, 77429\, United States
CATEGORIES:Entire Congregation
ATTACH;FMTTYPE=image/webp:https://www.wogcf.org/wp-content/uploads/2026/03/Bible-Study.webp
END:VEVENT
BEGIN:VEVENT
DTSTART;TZID=America/Chicago:20260715T063000
DTEND;TZID=America/Chicago:20260715T210000
DTSTAMP:20260423T173304
CREATED:20260306T020046Z
LAST-MODIFIED:20260306T020630Z
UID:30000628-1784097000-1784149200@www.wogcf.org
SUMMARY:Wednesday Night Bible Study
DESCRIPTION:Bring your notes\, nuggets and questions and join us for Bible Study every Wednesday! \nBe prepared to interact and share as well as learn as we go deeper into the Word of God! \nVisit our Facebook page or YouTube channel to join us online.
URL:https://www.wogcf.org/event/wednesday-night-bible-study-2/2026-07-15/
LOCATION:WOGCF\, 17902 Telge Rd.\, Cypress\, TX\, 77429\, United States
CATEGORIES:Entire Congregation
ATTACH;FMTTYPE=image/webp:https://www.wogcf.org/wp-content/uploads/2026/03/Bible-Study.webp
END:VEVENT
BEGIN:VEVENT
DTSTART;TZID=America/Chicago:20260722T063000
DTEND;TZID=America/Chicago:20260722T210000
DTSTAMP:20260423T173304
CREATED:20260306T020046Z
LAST-MODIFIED:20260306T020630Z
UID:30000629-1784701800-1784754000@www.wogcf.org
SUMMARY:Wednesday Night Bible Study
DESCRIPTION:Bring your notes\, nuggets and questions and join us for Bible Study every Wednesday! \nBe prepared to interact and share as well as learn as we go deeper into the Word of God! \nVisit our Facebook page or YouTube channel to join us online.
URL:https://www.wogcf.org/event/wednesday-night-bible-study-2/2026-07-22/
LOCATION:WOGCF\, 17902 Telge Rd.\, Cypress\, TX\, 77429\, United States
CATEGORIES:Entire Congregation
ATTACH;FMTTYPE=image/webp:https://www.wogcf.org/wp-content/uploads/2026/03/Bible-Study.webp
END:VEVENT
BEGIN:VEVENT
DTSTART;TZID=America/Chicago:20260729T063000
DTEND;TZID=America/Chicago:20260729T210000
DTSTAMP:20260423T173304
CREATED:20260306T020046Z
LAST-MODIFIED:20260306T020630Z
UID:30000630-1785306600-1785358800@www.wogcf.org
SUMMARY:Wednesday Night Bible Study
DESCRIPTION:Bring your notes\, nuggets and questions and join us for Bible Study every Wednesday! \nBe prepared to interact and share as well as learn as we go deeper into the Word of God! \nVisit our Facebook page or YouTube channel to join us online.
URL:https://www.wogcf.org/event/wednesday-night-bible-study-2/2026-07-29/
LOCATION:WOGCF\, 17902 Telge Rd.\, Cypress\, TX\, 77429\, United States
CATEGORIES:Entire Congregation
ATTACH;FMTTYPE=image/webp:https://www.wogcf.org/wp-content/uploads/2026/03/Bible-Study.webp
END:VEVENT
BEGIN:VEVENT
DTSTART;TZID=America/Chicago:20260805T063000
DTEND;TZID=America/Chicago:20260805T210000
DTSTAMP:20260423T173304
CREATED:20260306T020046Z
LAST-MODIFIED:20260306T020630Z
UID:30000631-1785911400-1785963600@www.wogcf.org
SUMMARY:Wednesday Night Bible Study
DESCRIPTION:Bring your notes\, nuggets and questions and join us for Bible Study every Wednesday! \nBe prepared to interact and share as well as learn as we go deeper into the Word of God! \nVisit our Facebook page or YouTube channel to join us online.
URL:https://www.wogcf.org/event/wednesday-night-bible-study-2/2026-08-05/
LOCATION:WOGCF\, 17902 Telge Rd.\, Cypress\, TX\, 77429\, United States
CATEGORIES:Entire Congregation
ATTACH;FMTTYPE=image/webp:https://www.wogcf.org/wp-content/uploads/2026/03/Bible-Study.webp
END:VEVENT
BEGIN:VEVENT
DTSTART;TZID=America/Chicago:20260812T063000
DTEND;TZID=America/Chicago:20260812T210000
DTSTAMP:20260423T173304
CREATED:20260306T020046Z
LAST-MODIFIED:20260306T020630Z
UID:30000632-1786516200-1786568400@www.wogcf.org
SUMMARY:Wednesday Night Bible Study
DESCRIPTION:Bring your notes\, nuggets and questions and join us for Bible Study every Wednesday! \nBe prepared to interact and share as well as learn as we go deeper into the Word of God! \nVisit our Facebook page or YouTube channel to join us online.
URL:https://www.wogcf.org/event/wednesday-night-bible-study-2/2026-08-12/
LOCATION:WOGCF\, 17902 Telge Rd.\, Cypress\, TX\, 77429\, United States
CATEGORIES:Entire Congregation
ATTACH;FMTTYPE=image/webp:https://www.wogcf.org/wp-content/uploads/2026/03/Bible-Study.webp
END:VEVENT
BEGIN:VEVENT
DTSTART;TZID=America/Chicago:20260819T063000
DTEND;TZID=America/Chicago:20260819T210000
DTSTAMP:20260423T173304
CREATED:20260306T020046Z
LAST-MODIFIED:20260306T020630Z
UID:30000633-1787121000-1787173200@www.wogcf.org
SUMMARY:Wednesday Night Bible Study
DESCRIPTION:Bring your notes\, nuggets and questions and join us for Bible Study every Wednesday! \nBe prepared to interact and share as well as learn as we go deeper into the Word of God! \nVisit our Facebook page or YouTube channel to join us online.
URL:https://www.wogcf.org/event/wednesday-night-bible-study-2/2026-08-19/
LOCATION:WOGCF\, 17902 Telge Rd.\, Cypress\, TX\, 77429\, United States
CATEGORIES:Entire Congregation
ATTACH;FMTTYPE=image/webp:https://www.wogcf.org/wp-content/uploads/2026/03/Bible-Study.webp
END:VEVENT
BEGIN:VEVENT
DTSTART;TZID=America/Chicago:20260826T063000
DTEND;TZID=America/Chicago:20260826T210000
DTSTAMP:20260423T173304
CREATED:20260306T020046Z
LAST-MODIFIED:20260306T020630Z
UID:30000634-1787725800-1787778000@www.wogcf.org
SUMMARY:Wednesday Night Bible Study
DESCRIPTION:Bring your notes\, nuggets and questions and join us for Bible Study every Wednesday! \nBe prepared to interact and share as well as learn as we go deeper into the Word of God! \nVisit our Facebook page or YouTube channel to join us online.
URL:https://www.wogcf.org/event/wednesday-night-bible-study-2/2026-08-26/
LOCATION:WOGCF\, 17902 Telge Rd.\, Cypress\, TX\, 77429\, United States
CATEGORIES:Entire Congregation
ATTACH;FMTTYPE=image/webp:https://www.wogcf.org/wp-content/uploads/2026/03/Bible-Study.webp
END:VEVENT
BEGIN:VEVENT
DTSTART;TZID=America/Chicago:20260902T063000
DTEND;TZID=America/Chicago:20260902T210000
DTSTAMP:20260423T173304
CREATED:20260306T020046Z
LAST-MODIFIED:20260306T020630Z
UID:30000635-1788330600-1788382800@www.wogcf.org
SUMMARY:Wednesday Night Bible Study
DESCRIPTION:Bring your notes\, nuggets and questions and join us for Bible Study every Wednesday! \nBe prepared to interact and share as well as learn as we go deeper into the Word of God! \nVisit our Facebook page or YouTube channel to join us online.
URL:https://www.wogcf.org/event/wednesday-night-bible-study-2/2026-09-02/
LOCATION:WOGCF\, 17902 Telge Rd.\, Cypress\, TX\, 77429\, United States
CATEGORIES:Entire Congregation
ATTACH;FMTTYPE=image/webp:https://www.wogcf.org/wp-content/uploads/2026/03/Bible-Study.webp
END:VEVENT
BEGIN:VEVENT
DTSTART;TZID=America/Chicago:20260909T063000
DTEND;TZID=America/Chicago:20260909T210000
DTSTAMP:20260423T173304
CREATED:20260306T020046Z
LAST-MODIFIED:20260306T020630Z
UID:30000636-1788935400-1788987600@www.wogcf.org
SUMMARY:Wednesday Night Bible Study
DESCRIPTION:Bring your notes\, nuggets and questions and join us for Bible Study every Wednesday! \nBe prepared to interact and share as well as learn as we go deeper into the Word of God! \nVisit our Facebook page or YouTube channel to join us online.
URL:https://www.wogcf.org/event/wednesday-night-bible-study-2/2026-09-09/
LOCATION:WOGCF\, 17902 Telge Rd.\, Cypress\, TX\, 77429\, United States
CATEGORIES:Entire Congregation
ATTACH;FMTTYPE=image/webp:https://www.wogcf.org/wp-content/uploads/2026/03/Bible-Study.webp
END:VEVENT
BEGIN:VEVENT
DTSTART;TZID=America/Chicago:20260916T063000
DTEND;TZID=America/Chicago:20260916T210000
DTSTAMP:20260423T173304
CREATED:20260306T020046Z
LAST-MODIFIED:20260306T020630Z
UID:30000637-1789540200-1789592400@www.wogcf.org
SUMMARY:Wednesday Night Bible Study
DESCRIPTION:Bring your notes\, nuggets and questions and join us for Bible Study every Wednesday! \nBe prepared to interact and share as well as learn as we go deeper into the Word of God! \nVisit our Facebook page or YouTube channel to join us online.
URL:https://www.wogcf.org/event/wednesday-night-bible-study-2/2026-09-16/
LOCATION:WOGCF\, 17902 Telge Rd.\, Cypress\, TX\, 77429\, United States
CATEGORIES:Entire Congregation
ATTACH;FMTTYPE=image/webp:https://www.wogcf.org/wp-content/uploads/2026/03/Bible-Study.webp
END:VEVENT
BEGIN:VEVENT
DTSTART;TZID=America/Chicago:20260923T063000
DTEND;TZID=America/Chicago:20260923T210000
DTSTAMP:20260423T173304
CREATED:20260306T020046Z
LAST-MODIFIED:20260306T020630Z
UID:30000638-1790145000-1790197200@www.wogcf.org
SUMMARY:Wednesday Night Bible Study
DESCRIPTION:Bring your notes\, nuggets and questions and join us for Bible Study every Wednesday! \nBe prepared to interact and share as well as learn as we go deeper into the Word of God! \nVisit our Facebook page or YouTube channel to join us online.
URL:https://www.wogcf.org/event/wednesday-night-bible-study-2/2026-09-23/
LOCATION:WOGCF\, 17902 Telge Rd.\, Cypress\, TX\, 77429\, United States
CATEGORIES:Entire Congregation
ATTACH;FMTTYPE=image/webp:https://www.wogcf.org/wp-content/uploads/2026/03/Bible-Study.webp
END:VEVENT
BEGIN:VEVENT
DTSTART;TZID=America/Chicago:20260930T063000
DTEND;TZID=America/Chicago:20260930T210000
DTSTAMP:20260423T173304
CREATED:20260306T020046Z
LAST-MODIFIED:20260306T020630Z
UID:30000639-1790749800-1790802000@www.wogcf.org
SUMMARY:Wednesday Night Bible Study
DESCRIPTION:Bring your notes\, nuggets and questions and join us for Bible Study every Wednesday! \nBe prepared to interact and share as well as learn as we go deeper into the Word of God! \nVisit our Facebook page or YouTube channel to join us online.
URL:https://www.wogcf.org/event/wednesday-night-bible-study-2/2026-09-30/
LOCATION:WOGCF\, 17902 Telge Rd.\, Cypress\, TX\, 77429\, United States
CATEGORIES:Entire Congregation
ATTACH;FMTTYPE=image/webp:https://www.wogcf.org/wp-content/uploads/2026/03/Bible-Study.webp
END:VEVENT
BEGIN:VEVENT
DTSTART;TZID=America/Chicago:20261007T063000
DTEND;TZID=America/Chicago:20261007T210000
DTSTAMP:20260423T173304
CREATED:20260306T020046Z
LAST-MODIFIED:20260306T020630Z
UID:30000640-1791354600-1791406800@www.wogcf.org
SUMMARY:Wednesday Night Bible Study
DESCRIPTION:Bring your notes\, nuggets and questions and join us for Bible Study every Wednesday! \nBe prepared to interact and share as well as learn as we go deeper into the Word of God! \nVisit our Facebook page or YouTube channel to join us online.
URL:https://www.wogcf.org/event/wednesday-night-bible-study-2/2026-10-07/
LOCATION:WOGCF\, 17902 Telge Rd.\, Cypress\, TX\, 77429\, United States
CATEGORIES:Entire Congregation
ATTACH;FMTTYPE=image/webp:https://www.wogcf.org/wp-content/uploads/2026/03/Bible-Study.webp
END:VEVENT
BEGIN:VEVENT
DTSTART;TZID=America/Chicago:20261014T063000
DTEND;TZID=America/Chicago:20261014T210000
DTSTAMP:20260423T173304
CREATED:20260306T020046Z
LAST-MODIFIED:20260306T020630Z
UID:30000641-1791959400-1792011600@www.wogcf.org
SUMMARY:Wednesday Night Bible Study
DESCRIPTION:Bring your notes\, nuggets and questions and join us for Bible Study every Wednesday! \nBe prepared to interact and share as well as learn as we go deeper into the Word of God! \nVisit our Facebook page or YouTube channel to join us online.
URL:https://www.wogcf.org/event/wednesday-night-bible-study-2/2026-10-14/
LOCATION:WOGCF\, 17902 Telge Rd.\, Cypress\, TX\, 77429\, United States
CATEGORIES:Entire Congregation
ATTACH;FMTTYPE=image/webp:https://www.wogcf.org/wp-content/uploads/2026/03/Bible-Study.webp
END:VEVENT
BEGIN:VEVENT
DTSTART;TZID=America/Chicago:20261021T063000
DTEND;TZID=America/Chicago:20261021T210000
DTSTAMP:20260423T173304
CREATED:20260306T020046Z
LAST-MODIFIED:20260306T020630Z
UID:30000642-1792564200-1792616400@www.wogcf.org
SUMMARY:Wednesday Night Bible Study
DESCRIPTION:Bring your notes\, nuggets and questions and join us for Bible Study every Wednesday! \nBe prepared to interact and share as well as learn as we go deeper into the Word of God! \nVisit our Facebook page or YouTube channel to join us online.
URL:https://www.wogcf.org/event/wednesday-night-bible-study-2/2026-10-21/
LOCATION:WOGCF\, 17902 Telge Rd.\, Cypress\, TX\, 77429\, United States
CATEGORIES:Entire Congregation
ATTACH;FMTTYPE=image/webp:https://www.wogcf.org/wp-content/uploads/2026/03/Bible-Study.webp
END:VEVENT
BEGIN:VEVENT
DTSTART;TZID=America/Chicago:20261028T063000
DTEND;TZID=America/Chicago:20261028T210000
DTSTAMP:20260423T173304
CREATED:20260306T020046Z
LAST-MODIFIED:20260306T020630Z
UID:30000643-1793169000-1793221200@www.wogcf.org
SUMMARY:Wednesday Night Bible Study
DESCRIPTION:Bring your notes\, nuggets and questions and join us for Bible Study every Wednesday! \nBe prepared to interact and share as well as learn as we go deeper into the Word of God! \nVisit our Facebook page or YouTube channel to join us online.
URL:https://www.wogcf.org/event/wednesday-night-bible-study-2/2026-10-28/
LOCATION:WOGCF\, 17902 Telge Rd.\, Cypress\, TX\, 77429\, United States
CATEGORIES:Entire Congregation
ATTACH;FMTTYPE=image/webp:https://www.wogcf.org/wp-content/uploads/2026/03/Bible-Study.webp
END:VEVENT
BEGIN:VEVENT
DTSTART;TZID=America/Chicago:20261104T063000
DTEND;TZID=America/Chicago:20261104T210000
DTSTAMP:20260423T173304
CREATED:20260306T020046Z
LAST-MODIFIED:20260306T020630Z
UID:30000644-1793773800-1793826000@www.wogcf.org
SUMMARY:Wednesday Night Bible Study
DESCRIPTION:Bring your notes\, nuggets and questions and join us for Bible Study every Wednesday! \nBe prepared to interact and share as well as learn as we go deeper into the Word of God! \nVisit our Facebook page or YouTube channel to join us online.
URL:https://www.wogcf.org/event/wednesday-night-bible-study-2/2026-11-04/
LOCATION:WOGCF\, 17902 Telge Rd.\, Cypress\, TX\, 77429\, United States
CATEGORIES:Entire Congregation
ATTACH;FMTTYPE=image/webp:https://www.wogcf.org/wp-content/uploads/2026/03/Bible-Study.webp
END:VEVENT
BEGIN:VEVENT
DTSTART;TZID=America/Chicago:20261111T063000
DTEND;TZID=America/Chicago:20261111T210000
DTSTAMP:20260423T173304
CREATED:20260306T020046Z
LAST-MODIFIED:20260306T020630Z
UID:30000645-1794378600-1794430800@www.wogcf.org
SUMMARY:Wednesday Night Bible Study
DESCRIPTION:Bring your notes\, nuggets and questions and join us for Bible Study every Wednesday! \nBe prepared to interact and share as well as learn as we go deeper into the Word of God! \nVisit our Facebook page or YouTube channel to join us online.
URL:https://www.wogcf.org/event/wednesday-night-bible-study-2/2026-11-11/
LOCATION:WOGCF\, 17902 Telge Rd.\, Cypress\, TX\, 77429\, United States
CATEGORIES:Entire Congregation
ATTACH;FMTTYPE=image/webp:https://www.wogcf.org/wp-content/uploads/2026/03/Bible-Study.webp
END:VEVENT
BEGIN:VEVENT
DTSTART;TZID=America/Chicago:20261118T063000
DTEND;TZID=America/Chicago:20261118T210000
DTSTAMP:20260423T173304
CREATED:20260306T020046Z
LAST-MODIFIED:20260306T020630Z
UID:30000646-1794983400-1795035600@www.wogcf.org
SUMMARY:Wednesday Night Bible Study
DESCRIPTION:Bring your notes\, nuggets and questions and join us for Bible Study every Wednesday! \nBe prepared to interact and share as well as learn as we go deeper into the Word of God! \nVisit our Facebook page or YouTube channel to join us online.
URL:https://www.wogcf.org/event/wednesday-night-bible-study-2/2026-11-18/
LOCATION:WOGCF\, 17902 Telge Rd.\, Cypress\, TX\, 77429\, United States
CATEGORIES:Entire Congregation
ATTACH;FMTTYPE=image/webp:https://www.wogcf.org/wp-content/uploads/2026/03/Bible-Study.webp
END:VEVENT
BEGIN:VEVENT
DTSTART;TZID=America/Chicago:20261125T063000
DTEND;TZID=America/Chicago:20261125T210000
DTSTAMP:20260423T173304
CREATED:20260306T020046Z
LAST-MODIFIED:20260306T020630Z
UID:30000647-1795588200-1795640400@www.wogcf.org
SUMMARY:Wednesday Night Bible Study
DESCRIPTION:Bring your notes\, nuggets and questions and join us for Bible Study every Wednesday! \nBe prepared to interact and share as well as learn as we go deeper into the Word of God! \nVisit our Facebook page or YouTube channel to join us online.
URL:https://www.wogcf.org/event/wednesday-night-bible-study-2/2026-11-25/
LOCATION:WOGCF\, 17902 Telge Rd.\, Cypress\, TX\, 77429\, United States
CATEGORIES:Entire Congregation
ATTACH;FMTTYPE=image/webp:https://www.wogcf.org/wp-content/uploads/2026/03/Bible-Study.webp
END:VEVENT
BEGIN:VEVENT
DTSTART;TZID=America/Chicago:20261202T063000
DTEND;TZID=America/Chicago:20261202T210000
DTSTAMP:20260423T173304
CREATED:20260306T020046Z
LAST-MODIFIED:20260306T020630Z
UID:30000648-1796193000-1796245200@www.wogcf.org
SUMMARY:Wednesday Night Bible Study
DESCRIPTION:Bring your notes\, nuggets and questions and join us for Bible Study every Wednesday! \nBe prepared to interact and share as well as learn as we go deeper into the Word of God! \nVisit our Facebook page or YouTube channel to join us online.
URL:https://www.wogcf.org/event/wednesday-night-bible-study-2/2026-12-02/
LOCATION:WOGCF\, 17902 Telge Rd.\, Cypress\, TX\, 77429\, United States
CATEGORIES:Entire Congregation
ATTACH;FMTTYPE=image/webp:https://www.wogcf.org/wp-content/uploads/2026/03/Bible-Study.webp
END:VEVENT
BEGIN:VEVENT
DTSTART;TZID=America/Chicago:20261209T063000
DTEND;TZID=America/Chicago:20261209T210000
DTSTAMP:20260423T173304
CREATED:20260306T020046Z
LAST-MODIFIED:20260306T020630Z
UID:30000649-1796797800-1796850000@www.wogcf.org
SUMMARY:Wednesday Night Bible Study
DESCRIPTION:Bring your notes\, nuggets and questions and join us for Bible Study every Wednesday! \nBe prepared to interact and share as well as learn as we go deeper into the Word of God! \nVisit our Facebook page or YouTube channel to join us online.
URL:https://www.wogcf.org/event/wednesday-night-bible-study-2/2026-12-09/
LOCATION:WOGCF\, 17902 Telge Rd.\, Cypress\, TX\, 77429\, United States
CATEGORIES:Entire Congregation
ATTACH;FMTTYPE=image/webp:https://www.wogcf.org/wp-content/uploads/2026/03/Bible-Study.webp
END:VEVENT
BEGIN:VEVENT
DTSTART;TZID=America/Chicago:20261216T063000
DTEND;TZID=America/Chicago:20261216T210000
DTSTAMP:20260423T173304
CREATED:20260306T020046Z
LAST-MODIFIED:20260306T020630Z
UID:30000650-1797402600-1797454800@www.wogcf.org
SUMMARY:Wednesday Night Bible Study
DESCRIPTION:Bring your notes\, nuggets and questions and join us for Bible Study every Wednesday! \nBe prepared to interact and share as well as learn as we go deeper into the Word of God! \nVisit our Facebook page or YouTube channel to join us online.
URL:https://www.wogcf.org/event/wednesday-night-bible-study-2/2026-12-16/
LOCATION:WOGCF\, 17902 Telge Rd.\, Cypress\, TX\, 77429\, United States
CATEGORIES:Entire Congregation
ATTACH;FMTTYPE=image/webp:https://www.wogcf.org/wp-content/uploads/2026/03/Bible-Study.webp
END:VEVENT
BEGIN:VEVENT
DTSTART;TZID=America/Chicago:20261223T063000
DTEND;TZID=America/Chicago:20261223T210000
DTSTAMP:20260423T173304
CREATED:20260306T020046Z
LAST-MODIFIED:20260306T020630Z
UID:30000651-1798007400-1798059600@www.wogcf.org
SUMMARY:Wednesday Night Bible Study
DESCRIPTION:Bring your notes\, nuggets and questions and join us for Bible Study every Wednesday! \nBe prepared to interact and share as well as learn as we go deeper into the Word of God! \nVisit our Facebook page or YouTube channel to join us online.
URL:https://www.wogcf.org/event/wednesday-night-bible-study-2/2026-12-23/
LOCATION:WOGCF\, 17902 Telge Rd.\, Cypress\, TX\, 77429\, United States
CATEGORIES:Entire Congregation
ATTACH;FMTTYPE=image/webp:https://www.wogcf.org/wp-content/uploads/2026/03/Bible-Study.webp
END:VEVENT
BEGIN:VEVENT
DTSTART;TZID=America/Chicago:20261230T063000
DTEND;TZID=America/Chicago:20261230T210000
DTSTAMP:20260423T173304
CREATED:20260306T020046Z
LAST-MODIFIED:20260306T020630Z
UID:30000652-1798612200-1798664400@www.wogcf.org
SUMMARY:Wednesday Night Bible Study
DESCRIPTION:Bring your notes\, nuggets and questions and join us for Bible Study every Wednesday! \nBe prepared to interact and share as well as learn as we go deeper into the Word of God! \nVisit our Facebook page or YouTube channel to join us online.
URL:https://www.wogcf.org/event/wednesday-night-bible-study-2/2026-12-30/
LOCATION:WOGCF\, 17902 Telge Rd.\, Cypress\, TX\, 77429\, United States
CATEGORIES:Entire Congregation
ATTACH;FMTTYPE=image/webp:https://www.wogcf.org/wp-content/uploads/2026/03/Bible-Study.webp
END:VEVENT
BEGIN:VEVENT
DTSTART;TZID=America/Chicago:20270106T063000
DTEND;TZID=America/Chicago:20270106T210000
DTSTAMP:20260423T173304
CREATED:20260306T020046Z
LAST-MODIFIED:20260306T020630Z
UID:30000653-1799217000-1799269200@www.wogcf.org
SUMMARY:Wednesday Night Bible Study
DESCRIPTION:Bring your notes\, nuggets and questions and join us for Bible Study every Wednesday! \nBe prepared to interact and share as well as learn as we go deeper into the Word of God! \nVisit our Facebook page or YouTube channel to join us online.
URL:https://www.wogcf.org/event/wednesday-night-bible-study-2/2027-01-06/
LOCATION:WOGCF\, 17902 Telge Rd.\, Cypress\, TX\, 77429\, United States
CATEGORIES:Entire Congregation
ATTACH;FMTTYPE=image/webp:https://www.wogcf.org/wp-content/uploads/2026/03/Bible-Study.webp
END:VEVENT
BEGIN:VEVENT
DTSTART;TZID=America/Chicago:20270113T063000
DTEND;TZID=America/Chicago:20270113T210000
DTSTAMP:20260423T173304
CREATED:20260306T020046Z
LAST-MODIFIED:20260306T020630Z
UID:30000654-1799821800-1799874000@www.wogcf.org
SUMMARY:Wednesday Night Bible Study
DESCRIPTION:Bring your notes\, nuggets and questions and join us for Bible Study every Wednesday! \nBe prepared to interact and share as well as learn as we go deeper into the Word of God! \nVisit our Facebook page or YouTube channel to join us online.
URL:https://www.wogcf.org/event/wednesday-night-bible-study-2/2027-01-13/
LOCATION:WOGCF\, 17902 Telge Rd.\, Cypress\, TX\, 77429\, United States
CATEGORIES:Entire Congregation
ATTACH;FMTTYPE=image/webp:https://www.wogcf.org/wp-content/uploads/2026/03/Bible-Study.webp
END:VEVENT
BEGIN:VEVENT
DTSTART;TZID=America/Chicago:20270120T063000
DTEND;TZID=America/Chicago:20270120T210000
DTSTAMP:20260423T173304
CREATED:20260306T020046Z
LAST-MODIFIED:20260306T020630Z
UID:30000655-1800426600-1800478800@www.wogcf.org
SUMMARY:Wednesday Night Bible Study
DESCRIPTION:Bring your notes\, nuggets and questions and join us for Bible Study every Wednesday! \nBe prepared to interact and share as well as learn as we go deeper into the Word of God! \nVisit our Facebook page or YouTube channel to join us online.
URL:https://www.wogcf.org/event/wednesday-night-bible-study-2/2027-01-20/
LOCATION:WOGCF\, 17902 Telge Rd.\, Cypress\, TX\, 77429\, United States
CATEGORIES:Entire Congregation
ATTACH;FMTTYPE=image/webp:https://www.wogcf.org/wp-content/uploads/2026/03/Bible-Study.webp
END:VEVENT
END:VCALENDAR