BEGIN:VCALENDAR
VERSION:2.0
PRODID:-//wogcf - ECPv6.15.19//NONSGML v1.0//EN
CALSCALE:GREGORIAN
METHOD:PUBLISH
X-WR-CALNAME:wogcf
X-ORIGINAL-URL:https://www.wogcf.org
X-WR-CALDESC:Events for wogcf
REFRESH-INTERVAL;VALUE=DURATION:PT1H
X-Robots-Tag:noindex
X-PUBLISHED-TTL:PT1H
BEGIN:VTIMEZONE
TZID:America/Chicago
BEGIN:DAYLIGHT
TZOFFSETFROM:-0600
TZOFFSETTO:-0500
TZNAME:CDT
DTSTART:20250309T080000
END:DAYLIGHT
BEGIN:STANDARD
TZOFFSETFROM:-0500
TZOFFSETTO:-0600
TZNAME:CST
DTSTART:20251102T070000
END:STANDARD
BEGIN:DAYLIGHT
TZOFFSETFROM:-0600
TZOFFSETTO:-0500
TZNAME:CDT
DTSTART:20260308T080000
END:DAYLIGHT
BEGIN:STANDARD
TZOFFSETFROM:-0500
TZOFFSETTO:-0600
TZNAME:CST
DTSTART:20261101T070000
END:STANDARD
BEGIN:DAYLIGHT
TZOFFSETFROM:-0600
TZOFFSETTO:-0500
TZNAME:CDT
DTSTART:20270314T080000
END:DAYLIGHT
BEGIN:STANDARD
TZOFFSETFROM:-0500
TZOFFSETTO:-0600
TZNAME:CST
DTSTART:20271107T070000
END:STANDARD
END:VTIMEZONE
BEGIN:VEVENT
DTSTART;TZID=America/Chicago:20260213T190000
DTEND;TZID=America/Chicago:20260214T150000
DTSTAMP:20260423T144903
CREATED:20260118T205141Z
LAST-MODIFIED:20260118T213610Z
UID:30000315-1771009200-1771081200@www.wogcf.org
SUMMARY:2nd Annual Godly Love Is Still Possible Marriage Conference
DESCRIPTION:Godly Love Is Still Possible: A Transformational Marriage Conference Inviting Couples to Reconnect\, Renew\, and Rise Together \nIn a time when marriages are under constant pressure\, Godly Love Is Still Possible stands as a bold reminder that thriving\, joy-filled\, faith-centered marriages are still within reach. This two-day marriage conference is intentionally designed to help couples pause\, reconnect\, and invest in the most important partnership of their lives. \nThe experience begins Friday evening with an elegant date night entitled “Moonlight and Romance.” Couples will step away from daily demands and step into an atmosphere of beauty\, laughter\, and connection. The evening includes a full dinner\, curated swag bags\, and live entertainment by the Soultre Band featuring Kollett and DJ Boot On Tha Ga$. With inspiring reflections from Pastor Erick Hoskin and First Lady Dr. Sheri Miller-Hoskin\, this night is more than a date — it’s a reminder of why love is worth celebrating. \nFriday | February 13\, 2026 | 7:00pm  \nHilton Garden Inn Houston NW/Willowbrook \n7979 Willow Chase Blvd.\nHouston\, TX 77070 \nSaturday shifts into powerful enrichment\, where couples receive practical\, faith-rooted tools they can use immediately. With breakfast and lunch provided\, attendees will engage in sessions addressing real-life marriage challenges\, including Forgiving to Move Forward\, Communicating and Fighting Fair\, Blended Families\, and Finances in Marriage. These sessions are designed to strengthen understanding\, restore trust\, and build unity — without judgment or fluff. \nSaturday | February 14\, 2026 | 9:30am  \nWord of God Christian Fellowship Church\n17902 Telge Rd.\nCypress\, TX 77429 \nHosted by the Fulfilled in a Righteous Marriage (FIRM) Ministry\, this conference welcomes couples at every stage: newlyweds\, seasoned partners\, and those navigating transitions. It’s for couples who believe love can deepen\, communication can improve\, and God can still do something beautiful with two willing hearts. \nCome dressed to impress. Come ready to grow. Leave renewed\, refocused\, and reconnected.
URL:https://www.wogcf.org/event/2nd-annual-godly-love-is-still-possible-marriage-conference/
LOCATION:Hilton Garden Inn Houston NW/Willowbrook\, 7979 Willow Chase Blvd.\, Houston\, TX\, 77070\, United States
CATEGORIES:Adults Over 50,Married Couples,Men,New Members,Women,Young Adults
ATTACH;FMTTYPE=image/jpeg:https://www.wogcf.org/wp-content/uploads/2026/01/godly-love.jpg
END:VEVENT
END:VCALENDAR